BEGIN:VCALENDAR
VERSION:2.0
PRODID:-//St. Andrew&#039;s Episcopal Church - ECPv6.13.2.1//NONSGML v1.0//EN
CALSCALE:GREGORIAN
METHOD:PUBLISH
X-ORIGINAL-URL:https://standrewswellesley.org
X-WR-CALDESC:Events for St. Andrew&#039;s Episcopal Church
REFRESH-INTERVAL;VALUE=DURATION:PT1H
X-Robots-Tag:noindex
X-PUBLISHED-TTL:PT1H
BEGIN:VTIMEZONE
TZID:America/New_York
BEGIN:DAYLIGHT
TZOFFSETFROM:-0500
TZOFFSETTO:-0400
TZNAME:EDT
DTSTART:20250309T070000
END:DAYLIGHT
BEGIN:STANDARD
TZOFFSETFROM:-0400
TZOFFSETTO:-0500
TZNAME:EST
DTSTART:20251102T060000
END:STANDARD
BEGIN:DAYLIGHT
TZOFFSETFROM:-0500
TZOFFSETTO:-0400
TZNAME:EDT
DTSTART:20260308T070000
END:DAYLIGHT
BEGIN:STANDARD
TZOFFSETFROM:-0400
TZOFFSETTO:-0500
TZNAME:EST
DTSTART:20261101T060000
END:STANDARD
END:VTIMEZONE
BEGIN:VEVENT
DTSTART;TZID=America/New_York:20260212T120000
DTEND;TZID=America/New_York:20260212T130000
DTSTAMP:20260424T073132
CREATED:20250715T204925Z
LAST-MODIFIED:20250715T204925Z
UID:10004368-1770897600-1770901200@standrewswellesley.org
SUMMARY:Beginner's Bible Study
DESCRIPTION:https://us02web.zoom.us/j/89491864301
URL:https://standrewswellesley.org/event/beginners-bible-study/2026-02-12/
LOCATION:St. Andrew’s\, 79 Denton Road\, Wellesley\, MA\, 02482\, United States
CATEGORIES:Meetings and Events
ATTACH;FMTTYPE=image/jpeg:https://standrewswellesley.org/wp-content/uploads/2016/10/bible-event.jpg
ORGANIZER;CN="The Rev. Adrian Robbins-Cole":MAILTO:adrian@standrewswellesley.org
GEO:42.2931594;-71.2944039
X-APPLE-STRUCTURED-LOCATION;VALUE=URI;X-ADDRESS=St. Andrew’s 79 Denton Road Wellesley MA 02482 United States;X-APPLE-RADIUS=500;X-TITLE=79 Denton Road:geo:-71.2944039,42.2931594
END:VEVENT
BEGIN:VEVENT
DTSTART;TZID=America/New_York:20260208T170000
DTEND;TZID=America/New_York:20260208T180000
DTSTAMP:20260424T073132
CREATED:20240911T185423Z
LAST-MODIFIED:20250715T225235Z
UID:10004664-1770570000-1770573600@standrewswellesley.org
SUMMARY:5pm Holy Eucharist
DESCRIPTION:
URL:https://standrewswellesley.org/event/5pm-holy-eucharist/2026-02-08/
LOCATION:St. Andrew’s\, 79 Denton Road\, Wellesley\, MA\, 02482\, United States
CATEGORIES:Worship Services
ATTACH;FMTTYPE=image/jpeg:https://standrewswellesley.org/wp-content/uploads/2016/10/MorningCommunion.jpg
ORGANIZER;CN="The Rev. Adrian Robbins-Cole":MAILTO:adrian@standrewswellesley.org
GEO:42.2931594;-71.2944039
X-APPLE-STRUCTURED-LOCATION;VALUE=URI;X-ADDRESS=St. Andrew’s 79 Denton Road Wellesley MA 02482 United States;X-APPLE-RADIUS=500;X-TITLE=79 Denton Road:geo:-71.2944039,42.2931594
END:VEVENT
BEGIN:VEVENT
DTSTART;TZID=America/New_York:20260205T120000
DTEND;TZID=America/New_York:20260205T130000
DTSTAMP:20260424T073132
CREATED:20250715T204925Z
LAST-MODIFIED:20250715T204925Z
UID:10004367-1770292800-1770296400@standrewswellesley.org
SUMMARY:Beginner's Bible Study
DESCRIPTION:https://us02web.zoom.us/j/89491864301
URL:https://standrewswellesley.org/event/beginners-bible-study/2026-02-05/
LOCATION:St. Andrew’s\, 79 Denton Road\, Wellesley\, MA\, 02482\, United States
CATEGORIES:Meetings and Events
ATTACH;FMTTYPE=image/jpeg:https://standrewswellesley.org/wp-content/uploads/2016/10/bible-event.jpg
ORGANIZER;CN="The Rev. Adrian Robbins-Cole":MAILTO:adrian@standrewswellesley.org
GEO:42.2931594;-71.2944039
X-APPLE-STRUCTURED-LOCATION;VALUE=URI;X-ADDRESS=St. Andrew’s 79 Denton Road Wellesley MA 02482 United States;X-APPLE-RADIUS=500;X-TITLE=79 Denton Road:geo:-71.2944039,42.2931594
END:VEVENT
BEGIN:VEVENT
DTSTART;TZID=America/New_York:20260201T170000
DTEND;TZID=America/New_York:20260201T180000
DTSTAMP:20260424T073132
CREATED:20240911T185423Z
LAST-MODIFIED:20250715T225235Z
UID:10004663-1769965200-1769968800@standrewswellesley.org
SUMMARY:5pm Holy Eucharist
DESCRIPTION:
URL:https://standrewswellesley.org/event/5pm-holy-eucharist/2026-02-01/
LOCATION:St. Andrew’s\, 79 Denton Road\, Wellesley\, MA\, 02482\, United States
CATEGORIES:Worship Services
ATTACH;FMTTYPE=image/jpeg:https://standrewswellesley.org/wp-content/uploads/2016/10/MorningCommunion.jpg
ORGANIZER;CN="The Rev. Adrian Robbins-Cole":MAILTO:adrian@standrewswellesley.org
GEO:42.2931594;-71.2944039
X-APPLE-STRUCTURED-LOCATION;VALUE=URI;X-ADDRESS=St. Andrew’s 79 Denton Road Wellesley MA 02482 United States;X-APPLE-RADIUS=500;X-TITLE=79 Denton Road:geo:-71.2944039,42.2931594
END:VEVENT
BEGIN:VEVENT
DTSTART;TZID=America/New_York:20260129T120000
DTEND;TZID=America/New_York:20260129T130000
DTSTAMP:20260424T073132
CREATED:20250715T204925Z
LAST-MODIFIED:20250715T204925Z
UID:10004366-1769688000-1769691600@standrewswellesley.org
SUMMARY:Beginner's Bible Study
DESCRIPTION:https://us02web.zoom.us/j/89491864301
URL:https://standrewswellesley.org/event/beginners-bible-study/2026-01-29/
LOCATION:St. Andrew’s\, 79 Denton Road\, Wellesley\, MA\, 02482\, United States
CATEGORIES:Meetings and Events
ATTACH;FMTTYPE=image/jpeg:https://standrewswellesley.org/wp-content/uploads/2016/10/bible-event.jpg
ORGANIZER;CN="The Rev. Adrian Robbins-Cole":MAILTO:adrian@standrewswellesley.org
GEO:42.2931594;-71.2944039
X-APPLE-STRUCTURED-LOCATION;VALUE=URI;X-ADDRESS=St. Andrew’s 79 Denton Road Wellesley MA 02482 United States;X-APPLE-RADIUS=500;X-TITLE=79 Denton Road:geo:-71.2944039,42.2931594
END:VEVENT
BEGIN:VEVENT
DTSTART;TZID=America/New_York:20260125T170000
DTEND;TZID=America/New_York:20260125T180000
DTSTAMP:20260424T073132
CREATED:20240911T185423Z
LAST-MODIFIED:20250715T225235Z
UID:10004662-1769360400-1769364000@standrewswellesley.org
SUMMARY:5pm Holy Eucharist
DESCRIPTION:
URL:https://standrewswellesley.org/event/5pm-holy-eucharist/2026-01-25/
LOCATION:St. Andrew’s\, 79 Denton Road\, Wellesley\, MA\, 02482\, United States
CATEGORIES:Worship Services
ATTACH;FMTTYPE=image/jpeg:https://standrewswellesley.org/wp-content/uploads/2016/10/MorningCommunion.jpg
ORGANIZER;CN="The Rev. Adrian Robbins-Cole":MAILTO:adrian@standrewswellesley.org
GEO:42.2931594;-71.2944039
X-APPLE-STRUCTURED-LOCATION;VALUE=URI;X-ADDRESS=St. Andrew’s 79 Denton Road Wellesley MA 02482 United States;X-APPLE-RADIUS=500;X-TITLE=79 Denton Road:geo:-71.2944039,42.2931594
END:VEVENT
BEGIN:VEVENT
DTSTART;TZID=America/New_York:20260122T120000
DTEND;TZID=America/New_York:20260122T130000
DTSTAMP:20260424T073132
CREATED:20250715T204925Z
LAST-MODIFIED:20250715T204925Z
UID:10004365-1769083200-1769086800@standrewswellesley.org
SUMMARY:Beginner's Bible Study
DESCRIPTION:https://us02web.zoom.us/j/89491864301
URL:https://standrewswellesley.org/event/beginners-bible-study/2026-01-22/
LOCATION:St. Andrew’s\, 79 Denton Road\, Wellesley\, MA\, 02482\, United States
CATEGORIES:Meetings and Events
ATTACH;FMTTYPE=image/jpeg:https://standrewswellesley.org/wp-content/uploads/2016/10/bible-event.jpg
ORGANIZER;CN="The Rev. Adrian Robbins-Cole":MAILTO:adrian@standrewswellesley.org
GEO:42.2931594;-71.2944039
X-APPLE-STRUCTURED-LOCATION;VALUE=URI;X-ADDRESS=St. Andrew’s 79 Denton Road Wellesley MA 02482 United States;X-APPLE-RADIUS=500;X-TITLE=79 Denton Road:geo:-71.2944039,42.2931594
END:VEVENT
BEGIN:VEVENT
DTSTART;TZID=America/New_York:20260118T170000
DTEND;TZID=America/New_York:20260118T180000
DTSTAMP:20260424T073132
CREATED:20240911T185423Z
LAST-MODIFIED:20250715T225235Z
UID:10004661-1768755600-1768759200@standrewswellesley.org
SUMMARY:5pm Holy Eucharist
DESCRIPTION:
URL:https://standrewswellesley.org/event/5pm-holy-eucharist/2026-01-18/
LOCATION:St. Andrew’s\, 79 Denton Road\, Wellesley\, MA\, 02482\, United States
CATEGORIES:Worship Services
ATTACH;FMTTYPE=image/jpeg:https://standrewswellesley.org/wp-content/uploads/2016/10/MorningCommunion.jpg
ORGANIZER;CN="The Rev. Adrian Robbins-Cole":MAILTO:adrian@standrewswellesley.org
GEO:42.2931594;-71.2944039
X-APPLE-STRUCTURED-LOCATION;VALUE=URI;X-ADDRESS=St. Andrew’s 79 Denton Road Wellesley MA 02482 United States;X-APPLE-RADIUS=500;X-TITLE=79 Denton Road:geo:-71.2944039,42.2931594
END:VEVENT
BEGIN:VEVENT
DTSTART;TZID=America/New_York:20260115T120000
DTEND;TZID=America/New_York:20260115T130000
DTSTAMP:20260424T073132
CREATED:20250715T204925Z
LAST-MODIFIED:20250715T204925Z
UID:10004364-1768478400-1768482000@standrewswellesley.org
SUMMARY:Beginner's Bible Study
DESCRIPTION:https://us02web.zoom.us/j/89491864301
URL:https://standrewswellesley.org/event/beginners-bible-study/2026-01-15/
LOCATION:St. Andrew’s\, 79 Denton Road\, Wellesley\, MA\, 02482\, United States
CATEGORIES:Meetings and Events
ATTACH;FMTTYPE=image/jpeg:https://standrewswellesley.org/wp-content/uploads/2016/10/bible-event.jpg
ORGANIZER;CN="The Rev. Adrian Robbins-Cole":MAILTO:adrian@standrewswellesley.org
GEO:42.2931594;-71.2944039
X-APPLE-STRUCTURED-LOCATION;VALUE=URI;X-ADDRESS=St. Andrew’s 79 Denton Road Wellesley MA 02482 United States;X-APPLE-RADIUS=500;X-TITLE=79 Denton Road:geo:-71.2944039,42.2931594
END:VEVENT
BEGIN:VEVENT
DTSTART;TZID=America/New_York:20260111T170000
DTEND;TZID=America/New_York:20260111T180000
DTSTAMP:20260424T073132
CREATED:20240911T185423Z
LAST-MODIFIED:20250715T225235Z
UID:10004660-1768150800-1768154400@standrewswellesley.org
SUMMARY:5pm Holy Eucharist
DESCRIPTION:
URL:https://standrewswellesley.org/event/5pm-holy-eucharist/2026-01-11/
LOCATION:St. Andrew’s\, 79 Denton Road\, Wellesley\, MA\, 02482\, United States
CATEGORIES:Worship Services
ATTACH;FMTTYPE=image/jpeg:https://standrewswellesley.org/wp-content/uploads/2016/10/MorningCommunion.jpg
ORGANIZER;CN="The Rev. Adrian Robbins-Cole":MAILTO:adrian@standrewswellesley.org
GEO:42.2931594;-71.2944039
X-APPLE-STRUCTURED-LOCATION;VALUE=URI;X-ADDRESS=St. Andrew’s 79 Denton Road Wellesley MA 02482 United States;X-APPLE-RADIUS=500;X-TITLE=79 Denton Road:geo:-71.2944039,42.2931594
END:VEVENT
BEGIN:VEVENT
DTSTART;TZID=America/New_York:20260108T120000
DTEND;TZID=America/New_York:20260108T130000
DTSTAMP:20260424T073132
CREATED:20250715T204925Z
LAST-MODIFIED:20250715T204925Z
UID:10004363-1767873600-1767877200@standrewswellesley.org
SUMMARY:Beginner's Bible Study
DESCRIPTION:https://us02web.zoom.us/j/89491864301
URL:https://standrewswellesley.org/event/beginners-bible-study/2026-01-08/
LOCATION:St. Andrew’s\, 79 Denton Road\, Wellesley\, MA\, 02482\, United States
CATEGORIES:Meetings and Events
ATTACH;FMTTYPE=image/jpeg:https://standrewswellesley.org/wp-content/uploads/2016/10/bible-event.jpg
ORGANIZER;CN="The Rev. Adrian Robbins-Cole":MAILTO:adrian@standrewswellesley.org
GEO:42.2931594;-71.2944039
X-APPLE-STRUCTURED-LOCATION;VALUE=URI;X-ADDRESS=St. Andrew’s 79 Denton Road Wellesley MA 02482 United States;X-APPLE-RADIUS=500;X-TITLE=79 Denton Road:geo:-71.2944039,42.2931594
END:VEVENT
BEGIN:VEVENT
DTSTART;TZID=America/New_York:20260104T170000
DTEND;TZID=America/New_York:20260104T180000
DTSTAMP:20260424T073132
CREATED:20240625T162212Z
LAST-MODIFIED:20250811T165852Z
UID:10002871-1767546000-1767549600@standrewswellesley.org
SUMMARY:Epiphany Fireside Service
DESCRIPTION:This Holy Communion service — in the parish hall with a roaring fire — is attended by an intergenerational congregation. We hear a short Epiphany homily and sing Epiphany hymns followed by dinner.
URL:https://standrewswellesley.org/event/epiphany-fireside-service/
LOCATION:St. Andrew’s\, 79 Denton Road\, Wellesley\, MA\, 02482\, United States
CATEGORIES:Christmas,Worship Services
ATTACH;FMTTYPE=image/jpeg:https://standrewswellesley.org/wp-content/uploads/2016/12/EpiphanyFire.jpg
ORGANIZER;CN="The Rev. Adrian Robbins-Cole":MAILTO:adrian@standrewswellesley.org
GEO:42.2931594;-71.2944039
X-APPLE-STRUCTURED-LOCATION;VALUE=URI;X-ADDRESS=St. Andrew’s 79 Denton Road Wellesley MA 02482 United States;X-APPLE-RADIUS=500;X-TITLE=79 Denton Road:geo:-71.2944039,42.2931594
END:VEVENT
BEGIN:VEVENT
DTSTART;TZID=America/New_York:20260101T120000
DTEND;TZID=America/New_York:20260101T130000
DTSTAMP:20260424T073132
CREATED:20250715T204925Z
LAST-MODIFIED:20250715T204925Z
UID:10004362-1767268800-1767272400@standrewswellesley.org
SUMMARY:Beginner's Bible Study
DESCRIPTION:https://us02web.zoom.us/j/89491864301
URL:https://standrewswellesley.org/event/beginners-bible-study/2026-01-01/
LOCATION:St. Andrew’s\, 79 Denton Road\, Wellesley\, MA\, 02482\, United States
CATEGORIES:Meetings and Events
ATTACH;FMTTYPE=image/jpeg:https://standrewswellesley.org/wp-content/uploads/2016/10/bible-event.jpg
ORGANIZER;CN="The Rev. Adrian Robbins-Cole":MAILTO:adrian@standrewswellesley.org
GEO:42.2931594;-71.2944039
X-APPLE-STRUCTURED-LOCATION;VALUE=URI;X-ADDRESS=St. Andrew’s 79 Denton Road Wellesley MA 02482 United States;X-APPLE-RADIUS=500;X-TITLE=79 Denton Road:geo:-71.2944039,42.2931594
END:VEVENT
BEGIN:VEVENT
DTSTART;TZID=America/New_York:20251225T100000
DTEND;TZID=America/New_York:20251225T110000
DTSTAMP:20260424T073132
CREATED:20241130T181704Z
LAST-MODIFIED:20251204T161309Z
UID:10004688-1766656800-1766660400@standrewswellesley.org
SUMMARY:Christmas Day Holy Eucharist
DESCRIPTION:The Christmas Day service is a relaxed one-hour service with communion\, Christmas carols\, and a short homily.
URL:https://standrewswellesley.org/event/christmas-day-eucharist/2025-12-25/
LOCATION:St. Andrew’s\, 79 Denton Road\, Wellesley\, MA\, 02482\, United States
CATEGORIES:Christmas,Worship Services
ATTACH;FMTTYPE=image/jpeg:https://standrewswellesley.org/wp-content/uploads/2025/12/HolyFamilyAngel-Christmas-2025.jpg
ORGANIZER;CN="The Rev. Adrian Robbins-Cole":MAILTO:adrian@standrewswellesley.org
GEO:42.2931594;-71.2944039
X-APPLE-STRUCTURED-LOCATION;VALUE=URI;X-ADDRESS=St. Andrew’s 79 Denton Road Wellesley MA 02482 United States;X-APPLE-RADIUS=500;X-TITLE=79 Denton Road:geo:-71.2944039,42.2931594
END:VEVENT
BEGIN:VEVENT
DTSTART;TZID=America/New_York:20251224T220000
DTEND;TZID=America/New_York:20251224T224500
DTSTAMP:20260424T073132
CREATED:20210731T212158Z
LAST-MODIFIED:20250716T001518Z
UID:10004686-1766613600-1766616300@standrewswellesley.org
SUMMARY:Festival Holy Eucharist
DESCRIPTION:This is a traditional service with communion\, carols\, a sermon\, and choral anthems. A 20-minute musical prelude precedes the hour-long service with the full choir and a string quartet. The service is not broadcast online.
URL:/worship/live/
LOCATION:St. Andrew’s\, 79 Denton Road\, Wellesley\, MA\, 02482\, United States
CATEGORIES:Christmas,Christmas Eve,Worship Services
ATTACH;FMTTYPE=image/jpeg:https://standrewswellesley.org/wp-content/uploads/2021/07/ChristmasEve10pm-feature.jpg
ORGANIZER;CN="The Rev. Adrian Robbins-Cole":MAILTO:adrian@standrewswellesley.org
GEO:42.2931594;-71.2944039
X-APPLE-STRUCTURED-LOCATION;VALUE=URI;X-ADDRESS=St. Andrew’s 79 Denton Road Wellesley MA 02482 United States;X-APPLE-RADIUS=500;X-TITLE=79 Denton Road:geo:-71.2944039,42.2931594
END:VEVENT
BEGIN:VEVENT
DTSTART;TZID=America/New_York:20251224T170000
DTEND;TZID=America/New_York:20251224T180000
DTSTAMP:20260424T073132
CREATED:20210731T212020Z
LAST-MODIFIED:20250716T001357Z
UID:10004685-1766595600-1766599200@standrewswellesley.org
SUMMARY:Festival Family Holy Eucharist
DESCRIPTION:This hour-long Holy Communion service is the most well attended Christmas Eve service at St. Andrew’s. The service ends with the church darkened and everyone holding a candle as we sing “Silent Night.”
URL:/worship/live/
LOCATION:St. Andrew’s\, 79 Denton Road\, Wellesley\, MA\, 02482\, United States
CATEGORIES:Christmas,Christmas Eve,Worship Services
ATTACH;FMTTYPE=image/jpeg:https://standrewswellesley.org/wp-content/uploads/2016/10/Christmas-Poinsettia.jpg
ORGANIZER;CN="The Rev. Adrian Robbins-Cole":MAILTO:adrian@standrewswellesley.org
GEO:42.2931594;-71.2944039
X-APPLE-STRUCTURED-LOCATION;VALUE=URI;X-ADDRESS=St. Andrew’s 79 Denton Road Wellesley MA 02482 United States;X-APPLE-RADIUS=500;X-TITLE=79 Denton Road:geo:-71.2944039,42.2931594
END:VEVENT
BEGIN:VEVENT
DTSTART;TZID=America/New_York:20251221T170000
DTEND;TZID=America/New_York:20251221T180000
DTSTAMP:20260424T073132
CREATED:20240911T185423Z
LAST-MODIFIED:20250715T225235Z
UID:10004657-1766336400-1766340000@standrewswellesley.org
SUMMARY:5pm Holy Eucharist
DESCRIPTION:
URL:https://standrewswellesley.org/event/5pm-holy-eucharist/2025-12-21/
LOCATION:St. Andrew’s\, 79 Denton Road\, Wellesley\, MA\, 02482\, United States
CATEGORIES:Worship Services
ATTACH;FMTTYPE=image/jpeg:https://standrewswellesley.org/wp-content/uploads/2016/10/MorningCommunion.jpg
ORGANIZER;CN="The Rev. Adrian Robbins-Cole":MAILTO:adrian@standrewswellesley.org
GEO:42.2931594;-71.2944039
X-APPLE-STRUCTURED-LOCATION;VALUE=URI;X-ADDRESS=St. Andrew’s 79 Denton Road Wellesley MA 02482 United States;X-APPLE-RADIUS=500;X-TITLE=79 Denton Road:geo:-71.2944039,42.2931594
END:VEVENT
BEGIN:VEVENT
DTSTART;TZID=America/New_York:20251218T120000
DTEND;TZID=America/New_York:20251218T130000
DTSTAMP:20260424T073132
CREATED:20250715T204925Z
LAST-MODIFIED:20250715T204925Z
UID:10004361-1766059200-1766062800@standrewswellesley.org
SUMMARY:Beginner's Bible Study
DESCRIPTION:https://us02web.zoom.us/j/89491864301
URL:https://standrewswellesley.org/event/beginners-bible-study/2025-12-18/
LOCATION:St. Andrew’s\, 79 Denton Road\, Wellesley\, MA\, 02482\, United States
CATEGORIES:Meetings and Events
ATTACH;FMTTYPE=image/jpeg:https://standrewswellesley.org/wp-content/uploads/2016/10/bible-event.jpg
ORGANIZER;CN="The Rev. Adrian Robbins-Cole":MAILTO:adrian@standrewswellesley.org
GEO:42.2931594;-71.2944039
X-APPLE-STRUCTURED-LOCATION;VALUE=URI;X-ADDRESS=St. Andrew’s 79 Denton Road Wellesley MA 02482 United States;X-APPLE-RADIUS=500;X-TITLE=79 Denton Road:geo:-71.2944039,42.2931594
END:VEVENT
BEGIN:VEVENT
DTSTART;TZID=America/New_York:20251214T170000
DTEND;TZID=America/New_York:20251214T180000
DTSTAMP:20260424T073132
CREATED:20240911T185423Z
LAST-MODIFIED:20250715T225235Z
UID:10004656-1765731600-1765735200@standrewswellesley.org
SUMMARY:5pm Holy Eucharist
DESCRIPTION:
URL:https://standrewswellesley.org/event/5pm-holy-eucharist/2025-12-14/
LOCATION:St. Andrew’s\, 79 Denton Road\, Wellesley\, MA\, 02482\, United States
CATEGORIES:Worship Services
ATTACH;FMTTYPE=image/jpeg:https://standrewswellesley.org/wp-content/uploads/2016/10/MorningCommunion.jpg
ORGANIZER;CN="The Rev. Adrian Robbins-Cole":MAILTO:adrian@standrewswellesley.org
GEO:42.2931594;-71.2944039
X-APPLE-STRUCTURED-LOCATION;VALUE=URI;X-ADDRESS=St. Andrew’s 79 Denton Road Wellesley MA 02482 United States;X-APPLE-RADIUS=500;X-TITLE=79 Denton Road:geo:-71.2944039,42.2931594
END:VEVENT
BEGIN:VEVENT
DTSTART;TZID=America/New_York:20251211T120000
DTEND;TZID=America/New_York:20251211T130000
DTSTAMP:20260424T073132
CREATED:20250715T204925Z
LAST-MODIFIED:20250715T204925Z
UID:10004360-1765454400-1765458000@standrewswellesley.org
SUMMARY:Beginner's Bible Study
DESCRIPTION:https://us02web.zoom.us/j/89491864301
URL:https://standrewswellesley.org/event/beginners-bible-study/2025-12-11/
LOCATION:St. Andrew’s\, 79 Denton Road\, Wellesley\, MA\, 02482\, United States
CATEGORIES:Meetings and Events
ATTACH;FMTTYPE=image/jpeg:https://standrewswellesley.org/wp-content/uploads/2016/10/bible-event.jpg
ORGANIZER;CN="The Rev. Adrian Robbins-Cole":MAILTO:adrian@standrewswellesley.org
GEO:42.2931594;-71.2944039
X-APPLE-STRUCTURED-LOCATION;VALUE=URI;X-ADDRESS=St. Andrew’s 79 Denton Road Wellesley MA 02482 United States;X-APPLE-RADIUS=500;X-TITLE=79 Denton Road:geo:-71.2944039,42.2931594
END:VEVENT
BEGIN:VEVENT
DTSTART;TZID=America/New_York:20251204T120000
DTEND;TZID=America/New_York:20251204T130000
DTSTAMP:20260424T073132
CREATED:20250715T204925Z
LAST-MODIFIED:20250715T204925Z
UID:10004359-1764849600-1764853200@standrewswellesley.org
SUMMARY:Beginner's Bible Study
DESCRIPTION:https://us02web.zoom.us/j/89491864301
URL:https://standrewswellesley.org/event/beginners-bible-study/2025-12-04/
LOCATION:St. Andrew’s\, 79 Denton Road\, Wellesley\, MA\, 02482\, United States
CATEGORIES:Meetings and Events
ATTACH;FMTTYPE=image/jpeg:https://standrewswellesley.org/wp-content/uploads/2016/10/bible-event.jpg
ORGANIZER;CN="The Rev. Adrian Robbins-Cole":MAILTO:adrian@standrewswellesley.org
GEO:42.2931594;-71.2944039
X-APPLE-STRUCTURED-LOCATION;VALUE=URI;X-ADDRESS=St. Andrew’s 79 Denton Road Wellesley MA 02482 United States;X-APPLE-RADIUS=500;X-TITLE=79 Denton Road:geo:-71.2944039,42.2931594
END:VEVENT
BEGIN:VEVENT
DTSTART;TZID=America/New_York:20251123T170000
DTEND;TZID=America/New_York:20251123T180000
DTSTAMP:20260424T073132
CREATED:20240911T185423Z
LAST-MODIFIED:20250715T225235Z
UID:10004653-1763917200-1763920800@standrewswellesley.org
SUMMARY:5pm Holy Eucharist
DESCRIPTION:
URL:https://standrewswellesley.org/event/5pm-holy-eucharist/2025-11-23/
LOCATION:St. Andrew’s\, 79 Denton Road\, Wellesley\, MA\, 02482\, United States
CATEGORIES:Worship Services
ATTACH;FMTTYPE=image/jpeg:https://standrewswellesley.org/wp-content/uploads/2016/10/MorningCommunion.jpg
ORGANIZER;CN="The Rev. Adrian Robbins-Cole":MAILTO:adrian@standrewswellesley.org
GEO:42.2931594;-71.2944039
X-APPLE-STRUCTURED-LOCATION;VALUE=URI;X-ADDRESS=St. Andrew’s 79 Denton Road Wellesley MA 02482 United States;X-APPLE-RADIUS=500;X-TITLE=79 Denton Road:geo:-71.2944039,42.2931594
END:VEVENT
BEGIN:VEVENT
DTSTART;TZID=America/New_York:20251120T120000
DTEND;TZID=America/New_York:20251120T130000
DTSTAMP:20260424T073132
CREATED:20250715T204925Z
LAST-MODIFIED:20250715T204925Z
UID:10004358-1763640000-1763643600@standrewswellesley.org
SUMMARY:Beginner's Bible Study
DESCRIPTION:https://us02web.zoom.us/j/89491864301
URL:https://standrewswellesley.org/event/beginners-bible-study/2025-11-20/
LOCATION:St. Andrew’s\, 79 Denton Road\, Wellesley\, MA\, 02482\, United States
CATEGORIES:Meetings and Events
ATTACH;FMTTYPE=image/jpeg:https://standrewswellesley.org/wp-content/uploads/2016/10/bible-event.jpg
ORGANIZER;CN="The Rev. Adrian Robbins-Cole":MAILTO:adrian@standrewswellesley.org
GEO:42.2931594;-71.2944039
X-APPLE-STRUCTURED-LOCATION;VALUE=URI;X-ADDRESS=St. Andrew’s 79 Denton Road Wellesley MA 02482 United States;X-APPLE-RADIUS=500;X-TITLE=79 Denton Road:geo:-71.2944039,42.2931594
END:VEVENT
BEGIN:VEVENT
DTSTART;TZID=America/New_York:20251116T170000
DTEND;TZID=America/New_York:20251116T180000
DTSTAMP:20260424T073132
CREATED:20240911T185423Z
LAST-MODIFIED:20250715T225235Z
UID:10004652-1763312400-1763316000@standrewswellesley.org
SUMMARY:5pm Holy Eucharist
DESCRIPTION:
URL:https://standrewswellesley.org/event/5pm-holy-eucharist/2025-11-16/
LOCATION:St. Andrew’s\, 79 Denton Road\, Wellesley\, MA\, 02482\, United States
CATEGORIES:Worship Services
ATTACH;FMTTYPE=image/jpeg:https://standrewswellesley.org/wp-content/uploads/2016/10/MorningCommunion.jpg
ORGANIZER;CN="The Rev. Adrian Robbins-Cole":MAILTO:adrian@standrewswellesley.org
GEO:42.2931594;-71.2944039
X-APPLE-STRUCTURED-LOCATION;VALUE=URI;X-ADDRESS=St. Andrew’s 79 Denton Road Wellesley MA 02482 United States;X-APPLE-RADIUS=500;X-TITLE=79 Denton Road:geo:-71.2944039,42.2931594
END:VEVENT
BEGIN:VEVENT
DTSTART;TZID=America/New_York:20251113T120000
DTEND;TZID=America/New_York:20251113T130000
DTSTAMP:20260424T073132
CREATED:20250715T204925Z
LAST-MODIFIED:20250715T204925Z
UID:10004357-1763035200-1763038800@standrewswellesley.org
SUMMARY:Beginner's Bible Study
DESCRIPTION:https://us02web.zoom.us/j/89491864301
URL:https://standrewswellesley.org/event/beginners-bible-study/2025-11-13/
LOCATION:St. Andrew’s\, 79 Denton Road\, Wellesley\, MA\, 02482\, United States
CATEGORIES:Meetings and Events
ATTACH;FMTTYPE=image/jpeg:https://standrewswellesley.org/wp-content/uploads/2016/10/bible-event.jpg
ORGANIZER;CN="The Rev. Adrian Robbins-Cole":MAILTO:adrian@standrewswellesley.org
GEO:42.2931594;-71.2944039
X-APPLE-STRUCTURED-LOCATION;VALUE=URI;X-ADDRESS=St. Andrew’s 79 Denton Road Wellesley MA 02482 United States;X-APPLE-RADIUS=500;X-TITLE=79 Denton Road:geo:-71.2944039,42.2931594
END:VEVENT
BEGIN:VEVENT
DTSTART;TZID=America/New_York:20251109T170000
DTEND;TZID=America/New_York:20251109T180000
DTSTAMP:20260424T073132
CREATED:20240911T185423Z
LAST-MODIFIED:20250715T225235Z
UID:10004651-1762707600-1762711200@standrewswellesley.org
SUMMARY:5pm Holy Eucharist
DESCRIPTION:
URL:https://standrewswellesley.org/event/5pm-holy-eucharist/2025-11-09/
LOCATION:St. Andrew’s\, 79 Denton Road\, Wellesley\, MA\, 02482\, United States
CATEGORIES:Worship Services
ATTACH;FMTTYPE=image/jpeg:https://standrewswellesley.org/wp-content/uploads/2016/10/MorningCommunion.jpg
ORGANIZER;CN="The Rev. Adrian Robbins-Cole":MAILTO:adrian@standrewswellesley.org
GEO:42.2931594;-71.2944039
X-APPLE-STRUCTURED-LOCATION;VALUE=URI;X-ADDRESS=St. Andrew’s 79 Denton Road Wellesley MA 02482 United States;X-APPLE-RADIUS=500;X-TITLE=79 Denton Road:geo:-71.2944039,42.2931594
END:VEVENT
BEGIN:VEVENT
DTSTART;TZID=America/New_York:20251106T120000
DTEND;TZID=America/New_York:20251106T130000
DTSTAMP:20260424T073132
CREATED:20250715T204925Z
LAST-MODIFIED:20250715T204925Z
UID:10004356-1762430400-1762434000@standrewswellesley.org
SUMMARY:Beginner's Bible Study
DESCRIPTION:https://us02web.zoom.us/j/89491864301
URL:https://standrewswellesley.org/event/beginners-bible-study/2025-11-06/
LOCATION:St. Andrew’s\, 79 Denton Road\, Wellesley\, MA\, 02482\, United States
CATEGORIES:Meetings and Events
ATTACH;FMTTYPE=image/jpeg:https://standrewswellesley.org/wp-content/uploads/2016/10/bible-event.jpg
ORGANIZER;CN="The Rev. Adrian Robbins-Cole":MAILTO:adrian@standrewswellesley.org
GEO:42.2931594;-71.2944039
X-APPLE-STRUCTURED-LOCATION;VALUE=URI;X-ADDRESS=St. Andrew’s 79 Denton Road Wellesley MA 02482 United States;X-APPLE-RADIUS=500;X-TITLE=79 Denton Road:geo:-71.2944039,42.2931594
END:VEVENT
BEGIN:VEVENT
DTSTART;TZID=America/New_York:20251102T170000
DTEND;TZID=America/New_York:20251102T180000
DTSTAMP:20260424T073132
CREATED:20250716T000506Z
LAST-MODIFIED:20250716T000507Z
UID:10004650-1762102800-1762106400@standrewswellesley.org
SUMMARY:Allhallowstide and Dia de los Muertos
DESCRIPTION:
URL:https://standrewswellesley.org/event/allhallowstide-dia-de-los-muertos/
LOCATION:St. Andrew’s\, 79 Denton Road\, Wellesley\, MA\, 02482\, United States
CATEGORIES:Worship Services
ATTACH;FMTTYPE=image/jpeg:https://standrewswellesley.org/wp-content/uploads/2024/09/AllHallows-LosMuertos.jpg
ORGANIZER;CN="The Rev. Adrian Robbins-Cole":MAILTO:adrian@standrewswellesley.org
GEO:42.2931594;-71.2944039
X-APPLE-STRUCTURED-LOCATION;VALUE=URI;X-ADDRESS=St. Andrew’s 79 Denton Road Wellesley MA 02482 United States;X-APPLE-RADIUS=500;X-TITLE=79 Denton Road:geo:-71.2944039,42.2931594
END:VEVENT
BEGIN:VEVENT
DTSTART;TZID=America/New_York:20251030T120000
DTEND;TZID=America/New_York:20251030T130000
DTSTAMP:20260424T073132
CREATED:20250715T204925Z
LAST-MODIFIED:20250715T204925Z
UID:10004355-1761825600-1761829200@standrewswellesley.org
SUMMARY:Beginner's Bible Study
DESCRIPTION:https://us02web.zoom.us/j/89491864301
URL:https://standrewswellesley.org/event/beginners-bible-study/2025-10-30/
LOCATION:St. Andrew’s\, 79 Denton Road\, Wellesley\, MA\, 02482\, United States
CATEGORIES:Meetings and Events
ATTACH;FMTTYPE=image/jpeg:https://standrewswellesley.org/wp-content/uploads/2016/10/bible-event.jpg
ORGANIZER;CN="The Rev. Adrian Robbins-Cole":MAILTO:adrian@standrewswellesley.org
GEO:42.2931594;-71.2944039
X-APPLE-STRUCTURED-LOCATION;VALUE=URI;X-ADDRESS=St. Andrew’s 79 Denton Road Wellesley MA 02482 United States;X-APPLE-RADIUS=500;X-TITLE=79 Denton Road:geo:-71.2944039,42.2931594
END:VEVENT
BEGIN:VEVENT
DTSTART;TZID=America/New_York:20251026T170000
DTEND;TZID=America/New_York:20251026T180000
DTSTAMP:20260424T073132
CREATED:20240911T185423Z
LAST-MODIFIED:20250715T225235Z
UID:10004649-1761498000-1761501600@standrewswellesley.org
SUMMARY:5pm Holy Eucharist
DESCRIPTION:
URL:https://standrewswellesley.org/event/5pm-holy-eucharist/2025-10-26/
LOCATION:St. Andrew’s\, 79 Denton Road\, Wellesley\, MA\, 02482\, United States
CATEGORIES:Worship Services
ATTACH;FMTTYPE=image/jpeg:https://standrewswellesley.org/wp-content/uploads/2016/10/MorningCommunion.jpg
ORGANIZER;CN="The Rev. Adrian Robbins-Cole":MAILTO:adrian@standrewswellesley.org
GEO:42.2931594;-71.2944039
X-APPLE-STRUCTURED-LOCATION;VALUE=URI;X-ADDRESS=St. Andrew’s 79 Denton Road Wellesley MA 02482 United States;X-APPLE-RADIUS=500;X-TITLE=79 Denton Road:geo:-71.2944039,42.2931594
END:VEVENT
END:VCALENDAR