BEGIN:VCALENDAR
VERSION:2.0
PRODID:-//St. Andrew&#039;s Episcopal Church - ECPv6.13.2.1//NONSGML v1.0//EN
CALSCALE:GREGORIAN
METHOD:PUBLISH
X-WR-CALNAME:St. Andrew&#039;s Episcopal Church
X-ORIGINAL-URL:https://standrewswellesley.org
X-WR-CALDESC:Events for St. Andrew&#039;s Episcopal Church
REFRESH-INTERVAL;VALUE=DURATION:PT1H
X-Robots-Tag:noindex
X-PUBLISHED-TTL:PT1H
BEGIN:VTIMEZONE
TZID:America/New_York
BEGIN:DAYLIGHT
TZOFFSETFROM:-0500
TZOFFSETTO:-0400
TZNAME:EDT
DTSTART:20260308T070000
END:DAYLIGHT
BEGIN:STANDARD
TZOFFSETFROM:-0400
TZOFFSETTO:-0500
TZNAME:EST
DTSTART:20261101T060000
END:STANDARD
END:VTIMEZONE
BEGIN:VEVENT
DTSTART;TZID=America/New_York:20260423T083000
DTEND;TZID=America/New_York:20260423T090000
DTSTAMP:20260425T073813
CREATED:20250811T163539Z
LAST-MODIFIED:20250811T181217Z
UID:10004843-1776933000-1776934800@standrewswellesley.org
SUMMARY:Online Morning Prayer
DESCRIPTION:
URL:https://standrewswellesley.org/event/morning-prayer/2026-04-23/
LOCATION:Online Service\, MA
CATEGORIES:Worship Services
ATTACH;FMTTYPE=image/jpeg:https://standrewswellesley.org/wp-content/uploads/2020/09/DailyPrayer-feature.jpg
GEO:42.4072107;-71.3824374
END:VEVENT
BEGIN:VEVENT
DTSTART;TZID=America/New_York:20260422T083000
DTEND;TZID=America/New_York:20260422T090000
DTSTAMP:20260425T073813
CREATED:20250811T163539Z
LAST-MODIFIED:20250811T181217Z
UID:10004842-1776846600-1776848400@standrewswellesley.org
SUMMARY:Online Morning Prayer
DESCRIPTION:
URL:https://standrewswellesley.org/event/morning-prayer/2026-04-22/
LOCATION:Online Service\, MA
CATEGORIES:Worship Services
ATTACH;FMTTYPE=image/jpeg:https://standrewswellesley.org/wp-content/uploads/2020/09/DailyPrayer-feature.jpg
GEO:42.4072107;-71.3824374
END:VEVENT
BEGIN:VEVENT
DTSTART;TZID=America/New_York:20260421T083000
DTEND;TZID=America/New_York:20260421T090000
DTSTAMP:20260425T073813
CREATED:20250811T163539Z
LAST-MODIFIED:20250811T181217Z
UID:10004841-1776760200-1776762000@standrewswellesley.org
SUMMARY:Online Morning Prayer
DESCRIPTION:
URL:https://standrewswellesley.org/event/morning-prayer/2026-04-21/
LOCATION:Online Service\, MA
CATEGORIES:Worship Services
ATTACH;FMTTYPE=image/jpeg:https://standrewswellesley.org/wp-content/uploads/2020/09/DailyPrayer-feature.jpg
GEO:42.4072107;-71.3824374
END:VEVENT
BEGIN:VEVENT
DTSTART;TZID=America/New_York:20260420T083000
DTEND;TZID=America/New_York:20260420T090000
DTSTAMP:20260425T073813
CREATED:20250811T163539Z
LAST-MODIFIED:20250811T181217Z
UID:10004840-1776673800-1776675600@standrewswellesley.org
SUMMARY:Online Morning Prayer
DESCRIPTION:
URL:https://standrewswellesley.org/event/morning-prayer/2026-04-20/
LOCATION:Online Service\, MA
CATEGORIES:Worship Services
ATTACH;FMTTYPE=image/jpeg:https://standrewswellesley.org/wp-content/uploads/2020/09/DailyPrayer-feature.jpg
GEO:42.4072107;-71.3824374
END:VEVENT
BEGIN:VEVENT
DTSTART;TZID=America/New_York:20260416T083000
DTEND;TZID=America/New_York:20260416T090000
DTSTAMP:20260425T073813
CREATED:20250811T163539Z
LAST-MODIFIED:20250811T181217Z
UID:10004839-1776328200-1776330000@standrewswellesley.org
SUMMARY:Online Morning Prayer
DESCRIPTION:
URL:https://standrewswellesley.org/event/morning-prayer/2026-04-16/
LOCATION:Online Service\, MA
CATEGORIES:Worship Services
ATTACH;FMTTYPE=image/jpeg:https://standrewswellesley.org/wp-content/uploads/2020/09/DailyPrayer-feature.jpg
GEO:42.4072107;-71.3824374
END:VEVENT
BEGIN:VEVENT
DTSTART;TZID=America/New_York:20260415T083000
DTEND;TZID=America/New_York:20260415T090000
DTSTAMP:20260425T073813
CREATED:20250811T163539Z
LAST-MODIFIED:20250811T181217Z
UID:10004838-1776241800-1776243600@standrewswellesley.org
SUMMARY:Online Morning Prayer
DESCRIPTION:
URL:https://standrewswellesley.org/event/morning-prayer/2026-04-15/
LOCATION:Online Service\, MA
CATEGORIES:Worship Services
ATTACH;FMTTYPE=image/jpeg:https://standrewswellesley.org/wp-content/uploads/2020/09/DailyPrayer-feature.jpg
GEO:42.4072107;-71.3824374
END:VEVENT
BEGIN:VEVENT
DTSTART;TZID=America/New_York:20260414T083000
DTEND;TZID=America/New_York:20260414T090000
DTSTAMP:20260425T073813
CREATED:20250811T163539Z
LAST-MODIFIED:20250811T181217Z
UID:10004837-1776155400-1776157200@standrewswellesley.org
SUMMARY:Online Morning Prayer
DESCRIPTION:
URL:https://standrewswellesley.org/event/morning-prayer/2026-04-14/
LOCATION:Online Service\, MA
CATEGORIES:Worship Services
ATTACH;FMTTYPE=image/jpeg:https://standrewswellesley.org/wp-content/uploads/2020/09/DailyPrayer-feature.jpg
GEO:42.4072107;-71.3824374
END:VEVENT
BEGIN:VEVENT
DTSTART;TZID=America/New_York:20260413T083000
DTEND;TZID=America/New_York:20260413T090000
DTSTAMP:20260425T073813
CREATED:20250811T163539Z
LAST-MODIFIED:20250811T181217Z
UID:10004836-1776069000-1776070800@standrewswellesley.org
SUMMARY:Online Morning Prayer
DESCRIPTION:
URL:https://standrewswellesley.org/event/morning-prayer/2026-04-13/
LOCATION:Online Service\, MA
CATEGORIES:Worship Services
ATTACH;FMTTYPE=image/jpeg:https://standrewswellesley.org/wp-content/uploads/2020/09/DailyPrayer-feature.jpg
GEO:42.4072107;-71.3824374
END:VEVENT
BEGIN:VEVENT
DTSTART;TZID=America/New_York:20260402T083000
DTEND;TZID=America/New_York:20260402T090000
DTSTAMP:20260425T073813
CREATED:20250811T163539Z
LAST-MODIFIED:20250811T181217Z
UID:10004831-1775118600-1775120400@standrewswellesley.org
SUMMARY:Online Morning Prayer
DESCRIPTION:
URL:https://standrewswellesley.org/event/morning-prayer/2026-04-02/
LOCATION:Online Service\, MA
CATEGORIES:Worship Services
ATTACH;FMTTYPE=image/jpeg:https://standrewswellesley.org/wp-content/uploads/2020/09/DailyPrayer-feature.jpg
GEO:42.4072107;-71.3824374
END:VEVENT
BEGIN:VEVENT
DTSTART;TZID=America/New_York:20260401T083000
DTEND;TZID=America/New_York:20260401T090000
DTSTAMP:20260425T073813
CREATED:20250811T163539Z
LAST-MODIFIED:20250811T181217Z
UID:10004830-1775032200-1775034000@standrewswellesley.org
SUMMARY:Online Morning Prayer
DESCRIPTION:
URL:https://standrewswellesley.org/event/morning-prayer/2026-04-01/
LOCATION:Online Service\, MA
CATEGORIES:Worship Services
ATTACH;FMTTYPE=image/jpeg:https://standrewswellesley.org/wp-content/uploads/2020/09/DailyPrayer-feature.jpg
GEO:42.4072107;-71.3824374
END:VEVENT
BEGIN:VEVENT
DTSTART;TZID=America/New_York:20260331T083000
DTEND;TZID=America/New_York:20260331T090000
DTSTAMP:20260425T073813
CREATED:20250811T163539Z
LAST-MODIFIED:20250811T181217Z
UID:10004829-1774945800-1774947600@standrewswellesley.org
SUMMARY:Online Morning Prayer
DESCRIPTION:
URL:https://standrewswellesley.org/event/morning-prayer/2026-03-31/
LOCATION:Online Service\, MA
CATEGORIES:Worship Services
ATTACH;FMTTYPE=image/jpeg:https://standrewswellesley.org/wp-content/uploads/2020/09/DailyPrayer-feature.jpg
GEO:42.4072107;-71.3824374
END:VEVENT
BEGIN:VEVENT
DTSTART;TZID=America/New_York:20260330T083000
DTEND;TZID=America/New_York:20260330T090000
DTSTAMP:20260425T073813
CREATED:20250811T163539Z
LAST-MODIFIED:20250811T181217Z
UID:10004828-1774859400-1774861200@standrewswellesley.org
SUMMARY:Online Morning Prayer
DESCRIPTION:
URL:https://standrewswellesley.org/event/morning-prayer/2026-03-30/
LOCATION:Online Service\, MA
CATEGORIES:Worship Services
ATTACH;FMTTYPE=image/jpeg:https://standrewswellesley.org/wp-content/uploads/2020/09/DailyPrayer-feature.jpg
GEO:42.4072107;-71.3824374
END:VEVENT
BEGIN:VEVENT
DTSTART;TZID=America/New_York:20260326T083000
DTEND;TZID=America/New_York:20260326T090000
DTSTAMP:20260425T073813
CREATED:20250811T163539Z
LAST-MODIFIED:20250811T181217Z
UID:10004827-1774513800-1774515600@standrewswellesley.org
SUMMARY:Online Morning Prayer
DESCRIPTION:
URL:https://standrewswellesley.org/event/morning-prayer/2026-03-26/
LOCATION:Online Service\, MA
CATEGORIES:Worship Services
ATTACH;FMTTYPE=image/jpeg:https://standrewswellesley.org/wp-content/uploads/2020/09/DailyPrayer-feature.jpg
GEO:42.4072107;-71.3824374
END:VEVENT
BEGIN:VEVENT
DTSTART;TZID=America/New_York:20260325T083000
DTEND;TZID=America/New_York:20260325T090000
DTSTAMP:20260425T073813
CREATED:20250811T163539Z
LAST-MODIFIED:20250811T181217Z
UID:10004826-1774427400-1774429200@standrewswellesley.org
SUMMARY:Online Morning Prayer
DESCRIPTION:
URL:https://standrewswellesley.org/event/morning-prayer/2026-03-25/
LOCATION:Online Service\, MA
CATEGORIES:Worship Services
ATTACH;FMTTYPE=image/jpeg:https://standrewswellesley.org/wp-content/uploads/2020/09/DailyPrayer-feature.jpg
GEO:42.4072107;-71.3824374
END:VEVENT
BEGIN:VEVENT
DTSTART;TZID=America/New_York:20260324T083000
DTEND;TZID=America/New_York:20260324T090000
DTSTAMP:20260425T073813
CREATED:20250811T163539Z
LAST-MODIFIED:20250811T181217Z
UID:10004825-1774341000-1774342800@standrewswellesley.org
SUMMARY:Online Morning Prayer
DESCRIPTION:
URL:https://standrewswellesley.org/event/morning-prayer/2026-03-24/
LOCATION:Online Service\, MA
CATEGORIES:Worship Services
ATTACH;FMTTYPE=image/jpeg:https://standrewswellesley.org/wp-content/uploads/2020/09/DailyPrayer-feature.jpg
GEO:42.4072107;-71.3824374
END:VEVENT
BEGIN:VEVENT
DTSTART;TZID=America/New_York:20260323T083000
DTEND;TZID=America/New_York:20260323T090000
DTSTAMP:20260425T073813
CREATED:20250811T163539Z
LAST-MODIFIED:20250811T181217Z
UID:10004824-1774254600-1774256400@standrewswellesley.org
SUMMARY:Online Morning Prayer
DESCRIPTION:
URL:https://standrewswellesley.org/event/morning-prayer/2026-03-23/
LOCATION:Online Service\, MA
CATEGORIES:Worship Services
ATTACH;FMTTYPE=image/jpeg:https://standrewswellesley.org/wp-content/uploads/2020/09/DailyPrayer-feature.jpg
GEO:42.4072107;-71.3824374
END:VEVENT
BEGIN:VEVENT
DTSTART;TZID=America/New_York:20260319T083000
DTEND;TZID=America/New_York:20260319T090000
DTSTAMP:20260425T073813
CREATED:20250811T163539Z
LAST-MODIFIED:20250811T181217Z
UID:10004823-1773909000-1773910800@standrewswellesley.org
SUMMARY:Online Morning Prayer
DESCRIPTION:
URL:https://standrewswellesley.org/event/morning-prayer/2026-03-19/
LOCATION:Online Service\, MA
CATEGORIES:Worship Services
ATTACH;FMTTYPE=image/jpeg:https://standrewswellesley.org/wp-content/uploads/2020/09/DailyPrayer-feature.jpg
GEO:42.4072107;-71.3824374
END:VEVENT
BEGIN:VEVENT
DTSTART;TZID=America/New_York:20260318T083000
DTEND;TZID=America/New_York:20260318T090000
DTSTAMP:20260425T073813
CREATED:20250811T163539Z
LAST-MODIFIED:20250811T181217Z
UID:10004822-1773822600-1773824400@standrewswellesley.org
SUMMARY:Online Morning Prayer
DESCRIPTION:
URL:https://standrewswellesley.org/event/morning-prayer/2026-03-18/
LOCATION:Online Service\, MA
CATEGORIES:Worship Services
ATTACH;FMTTYPE=image/jpeg:https://standrewswellesley.org/wp-content/uploads/2020/09/DailyPrayer-feature.jpg
GEO:42.4072107;-71.3824374
END:VEVENT
BEGIN:VEVENT
DTSTART;TZID=America/New_York:20260317T083000
DTEND;TZID=America/New_York:20260317T090000
DTSTAMP:20260425T073813
CREATED:20250811T163539Z
LAST-MODIFIED:20250811T181217Z
UID:10004821-1773736200-1773738000@standrewswellesley.org
SUMMARY:Online Morning Prayer
DESCRIPTION:
URL:https://standrewswellesley.org/event/morning-prayer/2026-03-17/
LOCATION:Online Service\, MA
CATEGORIES:Worship Services
ATTACH;FMTTYPE=image/jpeg:https://standrewswellesley.org/wp-content/uploads/2020/09/DailyPrayer-feature.jpg
GEO:42.4072107;-71.3824374
END:VEVENT
BEGIN:VEVENT
DTSTART;TZID=America/New_York:20260316T083000
DTEND;TZID=America/New_York:20260316T090000
DTSTAMP:20260425T073813
CREATED:20250811T163539Z
LAST-MODIFIED:20250811T181217Z
UID:10004820-1773649800-1773651600@standrewswellesley.org
SUMMARY:Online Morning Prayer
DESCRIPTION:
URL:https://standrewswellesley.org/event/morning-prayer/2026-03-16/
LOCATION:Online Service\, MA
CATEGORIES:Worship Services
ATTACH;FMTTYPE=image/jpeg:https://standrewswellesley.org/wp-content/uploads/2020/09/DailyPrayer-feature.jpg
GEO:42.4072107;-71.3824374
END:VEVENT
BEGIN:VEVENT
DTSTART;TZID=America/New_York:20260312T083000
DTEND;TZID=America/New_York:20260312T090000
DTSTAMP:20260425T073813
CREATED:20250811T163539Z
LAST-MODIFIED:20250811T181217Z
UID:10004819-1773304200-1773306000@standrewswellesley.org
SUMMARY:Online Morning Prayer
DESCRIPTION:
URL:https://standrewswellesley.org/event/morning-prayer/2026-03-12/
LOCATION:Online Service\, MA
CATEGORIES:Worship Services
ATTACH;FMTTYPE=image/jpeg:https://standrewswellesley.org/wp-content/uploads/2020/09/DailyPrayer-feature.jpg
GEO:42.4072107;-71.3824374
END:VEVENT
BEGIN:VEVENT
DTSTART;TZID=America/New_York:20260311T083000
DTEND;TZID=America/New_York:20260311T090000
DTSTAMP:20260425T073813
CREATED:20250811T163539Z
LAST-MODIFIED:20250811T181217Z
UID:10004818-1773217800-1773219600@standrewswellesley.org
SUMMARY:Online Morning Prayer
DESCRIPTION:
URL:https://standrewswellesley.org/event/morning-prayer/2026-03-11/
LOCATION:Online Service\, MA
CATEGORIES:Worship Services
ATTACH;FMTTYPE=image/jpeg:https://standrewswellesley.org/wp-content/uploads/2020/09/DailyPrayer-feature.jpg
GEO:42.4072107;-71.3824374
END:VEVENT
BEGIN:VEVENT
DTSTART;TZID=America/New_York:20260310T083000
DTEND;TZID=America/New_York:20260310T090000
DTSTAMP:20260425T073813
CREATED:20250811T163539Z
LAST-MODIFIED:20250811T181217Z
UID:10004817-1773131400-1773133200@standrewswellesley.org
SUMMARY:Online Morning Prayer
DESCRIPTION:
URL:https://standrewswellesley.org/event/morning-prayer/2026-03-10/
LOCATION:Online Service\, MA
CATEGORIES:Worship Services
ATTACH;FMTTYPE=image/jpeg:https://standrewswellesley.org/wp-content/uploads/2020/09/DailyPrayer-feature.jpg
GEO:42.4072107;-71.3824374
END:VEVENT
BEGIN:VEVENT
DTSTART;TZID=America/New_York:20260309T083000
DTEND;TZID=America/New_York:20260309T090000
DTSTAMP:20260425T073813
CREATED:20250811T163539Z
LAST-MODIFIED:20250811T181217Z
UID:10004816-1773045000-1773046800@standrewswellesley.org
SUMMARY:Online Morning Prayer
DESCRIPTION:
URL:https://standrewswellesley.org/event/morning-prayer/2026-03-09/
LOCATION:Online Service\, MA
CATEGORIES:Worship Services
ATTACH;FMTTYPE=image/jpeg:https://standrewswellesley.org/wp-content/uploads/2020/09/DailyPrayer-feature.jpg
GEO:42.4072107;-71.3824374
END:VEVENT
BEGIN:VEVENT
DTSTART;TZID=America/New_York:20260305T083000
DTEND;TZID=America/New_York:20260305T090000
DTSTAMP:20260425T073813
CREATED:20250811T163539Z
LAST-MODIFIED:20250811T181217Z
UID:10004815-1772699400-1772701200@standrewswellesley.org
SUMMARY:Online Morning Prayer
DESCRIPTION:
URL:https://standrewswellesley.org/event/morning-prayer/2026-03-05/
LOCATION:Online Service\, MA
CATEGORIES:Worship Services
ATTACH;FMTTYPE=image/jpeg:https://standrewswellesley.org/wp-content/uploads/2020/09/DailyPrayer-feature.jpg
GEO:42.4072107;-71.3824374
END:VEVENT
BEGIN:VEVENT
DTSTART;TZID=America/New_York:20260304T083000
DTEND;TZID=America/New_York:20260304T090000
DTSTAMP:20260425T073813
CREATED:20250811T163539Z
LAST-MODIFIED:20250811T181217Z
UID:10004814-1772613000-1772614800@standrewswellesley.org
SUMMARY:Online Morning Prayer
DESCRIPTION:
URL:https://standrewswellesley.org/event/morning-prayer/2026-03-04/
LOCATION:Online Service\, MA
CATEGORIES:Worship Services
ATTACH;FMTTYPE=image/jpeg:https://standrewswellesley.org/wp-content/uploads/2020/09/DailyPrayer-feature.jpg
GEO:42.4072107;-71.3824374
END:VEVENT
BEGIN:VEVENT
DTSTART;TZID=America/New_York:20260303T083000
DTEND;TZID=America/New_York:20260303T090000
DTSTAMP:20260425T073813
CREATED:20250811T163539Z
LAST-MODIFIED:20250811T181217Z
UID:10004813-1772526600-1772528400@standrewswellesley.org
SUMMARY:Online Morning Prayer
DESCRIPTION:
URL:https://standrewswellesley.org/event/morning-prayer/2026-03-03/
LOCATION:Online Service\, MA
CATEGORIES:Worship Services
ATTACH;FMTTYPE=image/jpeg:https://standrewswellesley.org/wp-content/uploads/2020/09/DailyPrayer-feature.jpg
GEO:42.4072107;-71.3824374
END:VEVENT
BEGIN:VEVENT
DTSTART;TZID=America/New_York:20260302T083000
DTEND;TZID=America/New_York:20260302T090000
DTSTAMP:20260425T073813
CREATED:20250811T163539Z
LAST-MODIFIED:20250811T181217Z
UID:10004812-1772440200-1772442000@standrewswellesley.org
SUMMARY:Online Morning Prayer
DESCRIPTION:
URL:https://standrewswellesley.org/event/morning-prayer/2026-03-02/
LOCATION:Online Service\, MA
CATEGORIES:Worship Services
ATTACH;FMTTYPE=image/jpeg:https://standrewswellesley.org/wp-content/uploads/2020/09/DailyPrayer-feature.jpg
GEO:42.4072107;-71.3824374
END:VEVENT
BEGIN:VEVENT
DTSTART;TZID=America/New_York:20260226T083000
DTEND;TZID=America/New_York:20260226T090000
DTSTAMP:20260425T073813
CREATED:20250811T163539Z
LAST-MODIFIED:20250811T181217Z
UID:10004811-1772094600-1772096400@standrewswellesley.org
SUMMARY:Online Morning Prayer
DESCRIPTION:
URL:https://standrewswellesley.org/event/morning-prayer/2026-02-26/
LOCATION:Online Service\, MA
CATEGORIES:Worship Services
ATTACH;FMTTYPE=image/jpeg:https://standrewswellesley.org/wp-content/uploads/2020/09/DailyPrayer-feature.jpg
GEO:42.4072107;-71.3824374
END:VEVENT
BEGIN:VEVENT
DTSTART;TZID=America/New_York:20260225T083000
DTEND;TZID=America/New_York:20260225T090000
DTSTAMP:20260425T073813
CREATED:20250811T163539Z
LAST-MODIFIED:20250811T181217Z
UID:10004810-1772008200-1772010000@standrewswellesley.org
SUMMARY:Online Morning Prayer
DESCRIPTION:
URL:https://standrewswellesley.org/event/morning-prayer/2026-02-25/
LOCATION:Online Service\, MA
CATEGORIES:Worship Services
ATTACH;FMTTYPE=image/jpeg:https://standrewswellesley.org/wp-content/uploads/2020/09/DailyPrayer-feature.jpg
GEO:42.4072107;-71.3824374
END:VEVENT
END:VCALENDAR