BEGIN:VCALENDAR
VERSION:2.0
PRODID:-//St. Andrew&#039;s Episcopal Church - ECPv6.13.2.1//NONSGML v1.0//EN
CALSCALE:GREGORIAN
METHOD:PUBLISH
X-ORIGINAL-URL:https://standrewswellesley.org
X-WR-CALDESC:Events for St. Andrew&#039;s Episcopal Church
REFRESH-INTERVAL;VALUE=DURATION:PT1H
X-Robots-Tag:noindex
X-PUBLISHED-TTL:PT1H
BEGIN:VTIMEZONE
TZID:America/New_York
BEGIN:DAYLIGHT
TZOFFSETFROM:-0500
TZOFFSETTO:-0400
TZNAME:EDT
DTSTART:20260308T070000
END:DAYLIGHT
BEGIN:STANDARD
TZOFFSETFROM:-0400
TZOFFSETTO:-0500
TZNAME:EST
DTSTART:20261101T060000
END:STANDARD
END:VTIMEZONE
BEGIN:VTIMEZONE
TZID:UTC
BEGIN:STANDARD
TZOFFSETFROM:+0000
TZOFFSETTO:+0000
TZNAME:UTC
DTSTART:20260101T000000
END:STANDARD
END:VTIMEZONE
BEGIN:VEVENT
DTSTART;TZID=America/New_York:20260511T083000
DTEND;TZID=America/New_York:20260511T090000
DTSTAMP:20260422T065656
CREATED:20250811T163539Z
LAST-MODIFIED:20250811T181217Z
UID:10004852-1778488200-1778490000@standrewswellesley.org
SUMMARY:Online Morning Prayer
DESCRIPTION:
URL:https://standrewswellesley.org/event/morning-prayer/2026-05-11/
LOCATION:Online Service\, MA
CATEGORIES:Worship Services
ATTACH;FMTTYPE=image/jpeg:https://standrewswellesley.org/wp-content/uploads/2020/09/DailyPrayer-feature.jpg
GEO:42.4072107;-71.3824374
END:VEVENT
BEGIN:VEVENT
DTSTART;TZID=America/New_York:20260512T083000
DTEND;TZID=America/New_York:20260512T090000
DTSTAMP:20260422T065656
CREATED:20250811T163539Z
LAST-MODIFIED:20250811T181217Z
UID:10004853-1778574600-1778576400@standrewswellesley.org
SUMMARY:Online Morning Prayer
DESCRIPTION:
URL:https://standrewswellesley.org/event/morning-prayer/2026-05-12/
LOCATION:Online Service\, MA
CATEGORIES:Worship Services
ATTACH;FMTTYPE=image/jpeg:https://standrewswellesley.org/wp-content/uploads/2020/09/DailyPrayer-feature.jpg
GEO:42.4072107;-71.3824374
END:VEVENT
BEGIN:VEVENT
DTSTART;TZID=America/New_York:20260513T083000
DTEND;TZID=America/New_York:20260513T090000
DTSTAMP:20260422T065656
CREATED:20250811T163539Z
LAST-MODIFIED:20250811T181217Z
UID:10004854-1778661000-1778662800@standrewswellesley.org
SUMMARY:Online Morning Prayer
DESCRIPTION:
URL:https://standrewswellesley.org/event/morning-prayer/2026-05-13/
LOCATION:Online Service\, MA
CATEGORIES:Worship Services
ATTACH;FMTTYPE=image/jpeg:https://standrewswellesley.org/wp-content/uploads/2020/09/DailyPrayer-feature.jpg
GEO:42.4072107;-71.3824374
END:VEVENT
BEGIN:VEVENT
DTSTART;TZID=America/New_York:20260514T083000
DTEND;TZID=America/New_York:20260514T090000
DTSTAMP:20260422T065656
CREATED:20250811T163539Z
LAST-MODIFIED:20250811T181217Z
UID:10004855-1778747400-1778749200@standrewswellesley.org
SUMMARY:Online Morning Prayer
DESCRIPTION:
URL:https://standrewswellesley.org/event/morning-prayer/2026-05-14/
LOCATION:Online Service\, MA
CATEGORIES:Worship Services
ATTACH;FMTTYPE=image/jpeg:https://standrewswellesley.org/wp-content/uploads/2020/09/DailyPrayer-feature.jpg
GEO:42.4072107;-71.3824374
END:VEVENT
BEGIN:VEVENT
DTSTART;TZID=UTC:20260517T080000
DTEND;TZID=UTC:20260517T090000
DTSTAMP:20260422T065656
CREATED:20161006T224416Z
LAST-MODIFIED:20250701T145448Z
UID:10004033-1779004800-1779008400@standrewswellesley.org
SUMMARY:8am Holy Eucharist
DESCRIPTION:
URL:https://standrewswellesley.org/event/8am-holy-eucharist/2026-05-17/
LOCATION:St. Andrew’s\, 79 Denton Road\, Wellesley\, MA\, 02482\, United States
CATEGORIES:Worship Services
ATTACH;FMTTYPE=image/jpeg:https://standrewswellesley.org/wp-content/uploads/2016/10/Pews.jpg
GEO:42.2931594;-71.2944039
X-APPLE-STRUCTURED-LOCATION;VALUE=URI;X-ADDRESS=St. Andrew’s 79 Denton Road Wellesley MA 02482 United States;X-APPLE-RADIUS=500;X-TITLE=79 Denton Road:geo:-71.2944039,42.2931594
END:VEVENT
BEGIN:VEVENT
DTSTART;TZID=America/New_York:20260517T100000
DTEND;TZID=America/New_York:20260517T110000
DTSTAMP:20260422T065656
CREATED:20210922T152930Z
LAST-MODIFIED:20250701T145508Z
UID:10004085-1779012000-1779015600@standrewswellesley.org
SUMMARY:10am Holy Eucharist
DESCRIPTION:
URL:/worship/live/
LOCATION:St. Andrew’s\, 79 Denton Road\, Wellesley\, MA\, 02482\, United States
CATEGORIES:Worship Services
ATTACH;FMTTYPE=image/jpeg:https://standrewswellesley.org/wp-content/uploads/2021/09/Chalice-on-altar.jpg
GEO:42.2931594;-71.2944039
X-APPLE-STRUCTURED-LOCATION;VALUE=URI;X-ADDRESS=St. Andrew’s 79 Denton Road Wellesley MA 02482 United States;X-APPLE-RADIUS=500;X-TITLE=79 Denton Road:geo:-71.2944039,42.2931594
END:VEVENT
BEGIN:VEVENT
DTSTART;TZID=America/New_York:20260517T170000
DTEND;TZID=America/New_York:20260517T180000
DTSTAMP:20260422T065656
CREATED:20240911T185423Z
LAST-MODIFIED:20250715T225235Z
UID:10004678-1779037200-1779040800@standrewswellesley.org
SUMMARY:5pm Holy Eucharist
DESCRIPTION:
URL:https://standrewswellesley.org/event/5pm-holy-eucharist/2026-05-17/
LOCATION:St. Andrew’s\, 79 Denton Road\, Wellesley\, MA\, 02482\, United States
CATEGORIES:Worship Services
ATTACH;FMTTYPE=image/jpeg:https://standrewswellesley.org/wp-content/uploads/2016/10/MorningCommunion.jpg
ORGANIZER;CN="The Rev. Adrian Robbins-Cole":MAILTO:adrian@standrewswellesley.org
GEO:42.2931594;-71.2944039
X-APPLE-STRUCTURED-LOCATION;VALUE=URI;X-ADDRESS=St. Andrew’s 79 Denton Road Wellesley MA 02482 United States;X-APPLE-RADIUS=500;X-TITLE=79 Denton Road:geo:-71.2944039,42.2931594
END:VEVENT
END:VCALENDAR