BEGIN:VCALENDAR
VERSION:2.0
PRODID:-//St. Andrew&#039;s Episcopal Church - ECPv6.13.2.1//NONSGML v1.0//EN
CALSCALE:GREGORIAN
METHOD:PUBLISH
X-ORIGINAL-URL:https://standrewswellesley.org
X-WR-CALDESC:Events for St. Andrew&#039;s Episcopal Church
REFRESH-INTERVAL;VALUE=DURATION:PT1H
X-Robots-Tag:noindex
X-PUBLISHED-TTL:PT1H
BEGIN:VTIMEZONE
TZID:America/New_York
BEGIN:DAYLIGHT
TZOFFSETFROM:-0500
TZOFFSETTO:-0400
TZNAME:EDT
DTSTART:20260308T070000
END:DAYLIGHT
BEGIN:STANDARD
TZOFFSETFROM:-0400
TZOFFSETTO:-0500
TZNAME:EST
DTSTART:20261101T060000
END:STANDARD
END:VTIMEZONE
BEGIN:VTIMEZONE
TZID:UTC
BEGIN:STANDARD
TZOFFSETFROM:+0000
TZOFFSETTO:+0000
TZNAME:UTC
DTSTART:20260101T000000
END:STANDARD
END:VTIMEZONE
BEGIN:VEVENT
DTSTART;TZID=America/New_York:20260504T083000
DTEND;TZID=America/New_York:20260504T090000
DTSTAMP:20260424T114315
CREATED:20250811T163539Z
LAST-MODIFIED:20250811T181217Z
UID:10004848-1777883400-1777885200@standrewswellesley.org
SUMMARY:Online Morning Prayer
DESCRIPTION:
URL:https://standrewswellesley.org/event/morning-prayer/2026-05-04/
LOCATION:Online Service\, MA
CATEGORIES:Worship Services
ATTACH;FMTTYPE=image/jpeg:https://standrewswellesley.org/wp-content/uploads/2020/09/DailyPrayer-feature.jpg
GEO:42.4072107;-71.3824374
END:VEVENT
BEGIN:VEVENT
DTSTART;TZID=America/New_York:20260505T083000
DTEND;TZID=America/New_York:20260505T090000
DTSTAMP:20260424T114315
CREATED:20250811T163539Z
LAST-MODIFIED:20250811T181217Z
UID:10004849-1777969800-1777971600@standrewswellesley.org
SUMMARY:Online Morning Prayer
DESCRIPTION:
URL:https://standrewswellesley.org/event/morning-prayer/2026-05-05/
LOCATION:Online Service\, MA
CATEGORIES:Worship Services
ATTACH;FMTTYPE=image/jpeg:https://standrewswellesley.org/wp-content/uploads/2020/09/DailyPrayer-feature.jpg
GEO:42.4072107;-71.3824374
END:VEVENT
BEGIN:VEVENT
DTSTART;TZID=America/New_York:20260506T083000
DTEND;TZID=America/New_York:20260506T090000
DTSTAMP:20260424T114315
CREATED:20250811T163539Z
LAST-MODIFIED:20250811T181217Z
UID:10004850-1778056200-1778058000@standrewswellesley.org
SUMMARY:Online Morning Prayer
DESCRIPTION:
URL:https://standrewswellesley.org/event/morning-prayer/2026-05-06/
LOCATION:Online Service\, MA
CATEGORIES:Worship Services
ATTACH;FMTTYPE=image/jpeg:https://standrewswellesley.org/wp-content/uploads/2020/09/DailyPrayer-feature.jpg
GEO:42.4072107;-71.3824374
END:VEVENT
BEGIN:VEVENT
DTSTART;TZID=America/New_York:20260507T083000
DTEND;TZID=America/New_York:20260507T090000
DTSTAMP:20260424T114315
CREATED:20250811T163539Z
LAST-MODIFIED:20250811T181217Z
UID:10004851-1778142600-1778144400@standrewswellesley.org
SUMMARY:Online Morning Prayer
DESCRIPTION:
URL:https://standrewswellesley.org/event/morning-prayer/2026-05-07/
LOCATION:Online Service\, MA
CATEGORIES:Worship Services
ATTACH;FMTTYPE=image/jpeg:https://standrewswellesley.org/wp-content/uploads/2020/09/DailyPrayer-feature.jpg
GEO:42.4072107;-71.3824374
END:VEVENT
BEGIN:VEVENT
DTSTART;TZID=UTC:20260510T080000
DTEND;TZID=UTC:20260510T090000
DTSTAMP:20260424T114315
CREATED:20161006T224416Z
LAST-MODIFIED:20250701T145448Z
UID:10004032-1778400000-1778403600@standrewswellesley.org
SUMMARY:8am Holy Eucharist
DESCRIPTION:
URL:https://standrewswellesley.org/event/8am-holy-eucharist/2026-05-10/
LOCATION:St. Andrew’s\, 79 Denton Road\, Wellesley\, MA\, 02482\, United States
CATEGORIES:Worship Services
ATTACH;FMTTYPE=image/jpeg:https://standrewswellesley.org/wp-content/uploads/2016/10/Pews.jpg
GEO:42.2931594;-71.2944039
X-APPLE-STRUCTURED-LOCATION;VALUE=URI;X-ADDRESS=St. Andrew’s 79 Denton Road Wellesley MA 02482 United States;X-APPLE-RADIUS=500;X-TITLE=79 Denton Road:geo:-71.2944039,42.2931594
END:VEVENT
BEGIN:VEVENT
DTSTART;TZID=America/New_York:20260510T100000
DTEND;TZID=America/New_York:20260510T110000
DTSTAMP:20260424T114315
CREATED:20250716T011156Z
LAST-MODIFIED:20250716T011156Z
UID:10004084-1778407200-1778410800@standrewswellesley.org
SUMMARY:All Parish Holy Eucharist
DESCRIPTION:
URL:https://standrewswellesley.org/event/all-parish-holy-eucharist-2/
LOCATION:St. Andrew’s\, 79 Denton Road\, Wellesley\, MA\, 02482\, United States
CATEGORIES:Worship Services
ATTACH;FMTTYPE=image/jpeg:https://standrewswellesley.org/wp-content/uploads/2021/09/Chalice-on-altar.jpg
GEO:42.2931594;-71.2944039
X-APPLE-STRUCTURED-LOCATION;VALUE=URI;X-ADDRESS=St. Andrew’s 79 Denton Road Wellesley MA 02482 United States;X-APPLE-RADIUS=500;X-TITLE=79 Denton Road:geo:-71.2944039,42.2931594
END:VEVENT
BEGIN:VEVENT
DTSTART;TZID=America/New_York:20260510T170000
DTEND;TZID=America/New_York:20260510T180000
DTSTAMP:20260424T114315
CREATED:20240911T185423Z
LAST-MODIFIED:20250715T225235Z
UID:10004677-1778432400-1778436000@standrewswellesley.org
SUMMARY:5pm Holy Eucharist
DESCRIPTION:
URL:https://standrewswellesley.org/event/5pm-holy-eucharist/2026-05-10/
LOCATION:St. Andrew’s\, 79 Denton Road\, Wellesley\, MA\, 02482\, United States
CATEGORIES:Worship Services
ATTACH;FMTTYPE=image/jpeg:https://standrewswellesley.org/wp-content/uploads/2016/10/MorningCommunion.jpg
ORGANIZER;CN="The Rev. Adrian Robbins-Cole":MAILTO:adrian@standrewswellesley.org
GEO:42.2931594;-71.2944039
X-APPLE-STRUCTURED-LOCATION;VALUE=URI;X-ADDRESS=St. Andrew’s 79 Denton Road Wellesley MA 02482 United States;X-APPLE-RADIUS=500;X-TITLE=79 Denton Road:geo:-71.2944039,42.2931594
END:VEVENT
END:VCALENDAR