BEGIN:VCALENDAR
VERSION:2.0
PRODID:-//St. Andrew&#039;s Episcopal Church - ECPv6.13.2.1//NONSGML v1.0//EN
CALSCALE:GREGORIAN
METHOD:PUBLISH
X-ORIGINAL-URL:https://standrewswellesley.org
X-WR-CALDESC:Events for St. Andrew&#039;s Episcopal Church
REFRESH-INTERVAL;VALUE=DURATION:PT1H
X-Robots-Tag:noindex
X-PUBLISHED-TTL:PT1H
BEGIN:VTIMEZONE
TZID:America/New_York
BEGIN:DAYLIGHT
TZOFFSETFROM:-0500
TZOFFSETTO:-0400
TZNAME:EDT
DTSTART:20260308T070000
END:DAYLIGHT
BEGIN:STANDARD
TZOFFSETFROM:-0400
TZOFFSETTO:-0500
TZNAME:EST
DTSTART:20261101T060000
END:STANDARD
END:VTIMEZONE
BEGIN:VEVENT
DTSTART;TZID=America/New_York:20260521T083000
DTEND;TZID=America/New_York:20260521T090000
DTSTAMP:20260422T065053
CREATED:20250811T163539Z
LAST-MODIFIED:20250811T181217Z
UID:10004859-1779352200-1779354000@standrewswellesley.org
SUMMARY:Online Morning Prayer
DESCRIPTION:
URL:https://standrewswellesley.org/event/morning-prayer/2026-05-21/
LOCATION:Online Service\, MA
CATEGORIES:Worship Services
ATTACH;FMTTYPE=image/jpeg:https://standrewswellesley.org/wp-content/uploads/2020/09/DailyPrayer-feature.jpg
GEO:42.4072107;-71.3824374
END:VEVENT
BEGIN:VEVENT
DTSTART;TZID=America/New_York:20260521T093000
DTEND;TZID=America/New_York:20260521T110000
DTSTAMP:20260422T065053
CREATED:20250909T183906Z
LAST-MODIFIED:20250909T184016Z
UID:10004996-1779355800-1779361200@standrewswellesley.org
SUMMARY:Altar Guild Ascension Day Eucharist / Meeting to Follow
DESCRIPTION:
URL:https://standrewswellesley.org/event/altar-guild-ascension-day/
LOCATION:St. Andrew’s\, 79 Denton Road\, Wellesley\, MA\, 02482\, United States
CATEGORIES:Meetings and Events,Worship Services
ATTACH;FMTTYPE=image/jpeg:https://standrewswellesley.org/wp-content/uploads/2018/01/St-Andrews-Day-Altar-feature.jpg
GEO:42.2931594;-71.2944039
X-APPLE-STRUCTURED-LOCATION;VALUE=URI;X-ADDRESS=St. Andrew’s 79 Denton Road Wellesley MA 02482 United States;X-APPLE-RADIUS=500;X-TITLE=79 Denton Road:geo:-71.2944039,42.2931594
END:VEVENT
BEGIN:VEVENT
DTSTART;TZID=America/New_York:20260521T103000
DTEND;TZID=America/New_York:20260521T113000
DTSTAMP:20260422T065053
CREATED:20240322T173532Z
LAST-MODIFIED:20250701T151031Z
UID:10004193-1779359400-1779363000@standrewswellesley.org
SUMMARY:North Hill Holy Eucharist
DESCRIPTION:
URL:https://standrewswellesley.org/event/north-hill-holy-eucharist-2/2026-05-21/
LOCATION:North Hill Retirement Center\, 865 Central Avenue\, Needham\, 02492\, United States
CATEGORIES:Worship Services
ATTACH;FMTTYPE=image/jpeg:https://standrewswellesley.org/wp-content/uploads/2017/01/NorthHill.jpg
GEO:42.2905158;-71.2540156
X-APPLE-STRUCTURED-LOCATION;VALUE=URI;X-ADDRESS=North Hill Retirement Center 865 Central Avenue Needham 02492 United States;X-APPLE-RADIUS=500;X-TITLE=865 Central Avenue:geo:-71.2540156,42.2905158
END:VEVENT
END:VCALENDAR