BEGIN:VCALENDAR
VERSION:2.0
PRODID:-//St. Andrew&#039;s Episcopal Church - ECPv6.13.2.1//NONSGML v1.0//EN
CALSCALE:GREGORIAN
METHOD:PUBLISH
X-WR-CALNAME:St. Andrew&#039;s Episcopal Church
X-ORIGINAL-URL:https://standrewswellesley.org
X-WR-CALDESC:Events for St. Andrew&#039;s Episcopal Church
REFRESH-INTERVAL;VALUE=DURATION:PT1H
X-Robots-Tag:noindex
X-PUBLISHED-TTL:PT1H
BEGIN:VTIMEZONE
TZID:America/New_York
BEGIN:DAYLIGHT
TZOFFSETFROM:-0500
TZOFFSETTO:-0400
TZNAME:EDT
DTSTART:20260308T070000
END:DAYLIGHT
BEGIN:STANDARD
TZOFFSETFROM:-0400
TZOFFSETTO:-0500
TZNAME:EST
DTSTART:20261101T060000
END:STANDARD
END:VTIMEZONE
BEGIN:VEVENT
DTSTART;TZID=America/New_York:20260402T094500
DTEND;TZID=America/New_York:20260402T110000
DTSTAMP:20260421T173651
CREATED:20200914T174335Z
LAST-MODIFIED:20250715T200159Z
UID:10004216-1775123100-1775127600@standrewswellesley.org
SUMMARY:Church School Committee Meeting
DESCRIPTION:
URL:https://standrewswellesley.org/event/church-school-committee/2026-04-02/
LOCATION:Harvey Room\, 79 Denton Road\, Wellesley\, MA\, 02482\, United States
CATEGORIES:Christian Learning,Meetings and Events
ATTACH;FMTTYPE=image/jpeg:https://standrewswellesley.org/wp-content/uploads/2020/08/Anna-Lee-Wahls-HomeSchool.jpg
ORGANIZER;CN="Rev. Sarah Robbins-Cole":MAILTO:sarah@standrewswellesley.org
GEO:42.2931594;-71.2944039
X-APPLE-STRUCTURED-LOCATION;VALUE=URI;X-ADDRESS=Harvey Room 79 Denton Road Wellesley MA 02482 United States;X-APPLE-RADIUS=500;X-TITLE=79 Denton Road:geo:-71.2944039,42.2931594
END:VEVENT
BEGIN:VEVENT
DTSTART;TZID=America/New_York:20260402T120000
DTEND;TZID=America/New_York:20260402T130000
DTSTAMP:20260421T173651
CREATED:20250715T204925Z
LAST-MODIFIED:20250715T204925Z
UID:10004375-1775131200-1775134800@standrewswellesley.org
SUMMARY:Beginner's Bible Study
DESCRIPTION:https://us02web.zoom.us/j/89491864301
URL:https://standrewswellesley.org/event/beginners-bible-study/2026-04-02/
LOCATION:St. Andrew’s\, 79 Denton Road\, Wellesley\, MA\, 02482\, United States
CATEGORIES:Meetings and Events
ATTACH;FMTTYPE=image/jpeg:https://standrewswellesley.org/wp-content/uploads/2016/10/bible-event.jpg
ORGANIZER;CN="The Rev. Adrian Robbins-Cole":MAILTO:adrian@standrewswellesley.org
GEO:42.2931594;-71.2944039
X-APPLE-STRUCTURED-LOCATION;VALUE=URI;X-ADDRESS=St. Andrew’s 79 Denton Road Wellesley MA 02482 United States;X-APPLE-RADIUS=500;X-TITLE=79 Denton Road:geo:-71.2944039,42.2931594
END:VEVENT
BEGIN:VEVENT
DTSTART;TZID=America/New_York:20260402T170000
DTEND;TZID=America/New_York:20260402T183000
DTSTAMP:20260421T173651
CREATED:20250715T204151Z
LAST-MODIFIED:20250812T155714Z
UID:10004305-1775149200-1775154600@standrewswellesley.org
SUMMARY:Children's Choir Rehearsal and Dinner
DESCRIPTION:
URL:https://standrewswellesley.org/event/childrens-choir-rehearsal/2026-04-02/
LOCATION:Choir Room\, 79 Denton Road\, Wellesley\, MA\, 02482\, United States
CATEGORIES:Meetings and Events
ATTACH;FMTTYPE=image/jpeg:https://standrewswellesley.org/wp-content/uploads/2025/07/ChildrensChoir-2025.jpg
ORGANIZER;CN="Benedict Hensley":MAILTO:benedict@standrewswellesley.org
GEO:42.2931559;-71.2944274
X-APPLE-STRUCTURED-LOCATION;VALUE=URI;X-ADDRESS=Choir Room 79 Denton Road Wellesley MA 02482 United States;X-APPLE-RADIUS=500;X-TITLE=79 Denton Road:geo:-71.2944274,42.2931559
END:VEVENT
BEGIN:VEVENT
DTSTART;TZID=America/New_York:20260402T193000
DTEND;TZID=America/New_York:20260402T210000
DTSTAMP:20260421T173651
CREATED:20230725T174338Z
LAST-MODIFIED:20250811T180836Z
UID:10004956-1775158200-1775163600@standrewswellesley.org
SUMMARY:Senior Choir Rehearsal
DESCRIPTION:
URL:https://standrewswellesley.org/event/senior-choir-rehearsal/2026-04-02/
LOCATION:St. Andrew’s\, 79 Denton Road\, Wellesley\, MA\, 02482\, United States
CATEGORIES:Meetings and Events
ATTACH;FMTTYPE=image/jpeg:https://standrewswellesley.org/wp-content/uploads/2020/09/SeniorChoir.jpg
ORGANIZER;CN="Wardie Mannix":MAILTO:wardie@standrewswellesley.org
GEO:42.2931594;-71.2944039
X-APPLE-STRUCTURED-LOCATION;VALUE=URI;X-ADDRESS=St. Andrew’s 79 Denton Road Wellesley MA 02482 United States;X-APPLE-RADIUS=500;X-TITLE=79 Denton Road:geo:-71.2944039,42.2931594
END:VEVENT
BEGIN:VEVENT
DTSTART;TZID=America/New_York:20260405T100000
DTEND;TZID=America/New_York:20260405T104500
DTSTAMP:20260421T173651
CREATED:20240314T165642Z
LAST-MODIFIED:20250716T010821Z
UID:10004702-1775383200-1775385900@standrewswellesley.org
SUMMARY:Easter Egg Hunt
DESCRIPTION:
URL:/worship/holy-week/easter-sunday/
LOCATION:St. Andrew’s\, 79 Denton Road\, Wellesley\, MA\, 02482\, United States
CATEGORIES:Easter Day Services,Holy Week,Meetings and Events
ATTACH;FMTTYPE=image/jpeg:https://standrewswellesley.org/wp-content/uploads/2016/12/EasterEggHunt.jpg
GEO:42.2931594;-71.2944039
X-APPLE-STRUCTURED-LOCATION;VALUE=URI;X-ADDRESS=St. Andrew’s 79 Denton Road Wellesley MA 02482 United States;X-APPLE-RADIUS=500;X-TITLE=79 Denton Road:geo:-71.2944039,42.2931594
END:VEVENT
END:VCALENDAR