BEGIN:VCALENDAR
VERSION:2.0
PRODID:-//St. Andrew&#039;s Episcopal Church - ECPv6.13.2.1//NONSGML v1.0//EN
CALSCALE:GREGORIAN
METHOD:PUBLISH
X-WR-CALNAME:St. Andrew&#039;s Episcopal Church
X-ORIGINAL-URL:https://standrewswellesley.org
X-WR-CALDESC:Events for St. Andrew&#039;s Episcopal Church
REFRESH-INTERVAL;VALUE=DURATION:PT1H
X-Robots-Tag:noindex
X-PUBLISHED-TTL:PT1H
BEGIN:VTIMEZONE
TZID:America/New_York
BEGIN:DAYLIGHT
TZOFFSETFROM:-0500
TZOFFSETTO:-0400
TZNAME:EDT
DTSTART:20250309T070000
END:DAYLIGHT
BEGIN:STANDARD
TZOFFSETFROM:-0400
TZOFFSETTO:-0500
TZNAME:EST
DTSTART:20251102T060000
END:STANDARD
END:VTIMEZONE
BEGIN:VEVENT
DTSTART;TZID=America/New_York:20251205T173000
DTEND;TZID=America/New_York:20251205T183000
DTSTAMP:20260420T035508
CREATED:20230829T163830Z
LAST-MODIFIED:20250811T175936Z
UID:10002581-1764955800-1764959400@standrewswellesley.org
SUMMARY:Little Angels Gift Shop
DESCRIPTION:No adults allowed! Children (pre-K through grade 5) are invited to purchase small gifts for family members at this beloved gift shop\, held in Room 2. Kids in grades 6 to 12 will assist with gift wrapping.
URL:https://standrewswellesley.org/event/little-angels-gift-shop/
LOCATION:St. Andrew’s\, 79 Denton Road\, Wellesley\, MA\, 02482\, United States
CATEGORIES:Christmas,Fellowship,Meetings and Events
ATTACH;FMTTYPE=image/jpeg:https://standrewswellesley.org/wp-content/uploads/2016/11/LittleAngels-e1480531709408.jpg
GEO:42.2931594;-71.2944039
X-APPLE-STRUCTURED-LOCATION;VALUE=URI;X-ADDRESS=St. Andrew’s 79 Denton Road Wellesley MA 02482 United States;X-APPLE-RADIUS=500;X-TITLE=79 Denton Road:geo:-71.2944039,42.2931594
END:VEVENT
BEGIN:VEVENT
DTSTART;TZID=America/New_York:20251205T183000
DTEND;TZID=America/New_York:20251205T193000
DTSTAMP:20260420T035508
CREATED:20230829T163418Z
LAST-MODIFIED:20250811T180040Z
UID:10002580-1764959400-1764963000@standrewswellesley.org
SUMMARY:Cookies & Carols
DESCRIPTION:Come to St. Andrew’s beloved family tradition of Cookies and Carols! There will be cookie decorating\, Christmas music and cookies to take home. Please bring two dozen of your favorite Christmas cookies to share. This event will take place in the parish hall.
URL:https://standrewswellesley.org/event/cookies-and-carols/
LOCATION:St. Andrew’s\, 79 Denton Road\, Wellesley\, MA\, 02482\, United States
CATEGORIES:Christian Learning,Christmas,Fellowship,Meetings and Events
ATTACH;FMTTYPE=image/jpeg:https://standrewswellesley.org/wp-content/uploads/2020/09/Christmas-Cookies-feature.jpg
GEO:42.2931594;-71.2944039
X-APPLE-STRUCTURED-LOCATION;VALUE=URI;X-ADDRESS=St. Andrew’s 79 Denton Road Wellesley MA 02482 United States;X-APPLE-RADIUS=500;X-TITLE=79 Denton Road:geo:-71.2944039,42.2931594
END:VEVENT
BEGIN:VEVENT
DTSTART;TZID=America/New_York:20251207T113000
DTEND;TZID=America/New_York:20251207T121500
DTSTAMP:20260420T035508
CREATED:20230829T164104Z
LAST-MODIFIED:20250909T175839Z
UID:10004984-1765107000-1765109700@standrewswellesley.org
SUMMARY:Christmas Pageant Rehearsal
DESCRIPTION:
URL:https://standrewswellesley.org/event/pageant-rehearsal/2025-12-07/
LOCATION:Choir Room\, 79 Denton Road\, Wellesley\, MA\, 02482\, United States
CATEGORIES:Christmas,Christmas Pageant,Meetings and Events
ATTACH;FMTTYPE=image/jpeg:https://standrewswellesley.org/wp-content/uploads/2016/11/Pageant-e1480531454707.jpg
ORGANIZER;CN="Benedict Hensley":MAILTO:benedict@standrewswellesley.org
GEO:42.2931559;-71.2944274
X-APPLE-STRUCTURED-LOCATION;VALUE=URI;X-ADDRESS=Choir Room 79 Denton Road Wellesley MA 02482 United States;X-APPLE-RADIUS=500;X-TITLE=79 Denton Road:geo:-71.2944274,42.2931559
END:VEVENT
BEGIN:VEVENT
DTSTART;TZID=America/New_York:20251207T170000
DTEND;TZID=America/New_York:20251207T180000
DTSTAMP:20260420T035508
CREATED:20250716T000735Z
LAST-MODIFIED:20251203T231436Z
UID:10004655-1765126800-1765130400@standrewswellesley.org
SUMMARY:Advent Lessons & Carols
DESCRIPTION:The parish choir will be singing under the direction of Helen Ward Mannix\, with guest organist Thomas Handel. Music by Orlando Gibbons\, Elizabeth Poston\, Jonathan Dove among others\, plus advent carols. \nAll are invited to a candlelight reception following the service.\nFree and open to all | Handicapped accessible
URL:https://standrewswellesley.org/event/lessons-carols-advent/
LOCATION:St. Andrew’s\, 79 Denton Road\, Wellesley\, MA\, 02482\, United States
CATEGORIES:Christmas,Worship Services
ATTACH;FMTTYPE=image/jpeg:https://standrewswellesley.org/wp-content/uploads/2025/07/SevenSisters-feature.jpg
ORGANIZER;CN="Wardie Mannix":MAILTO:wardie@standrewswellesley.org
GEO:42.2931594;-71.2944039
X-APPLE-STRUCTURED-LOCATION;VALUE=URI;X-ADDRESS=St. Andrew’s 79 Denton Road Wellesley MA 02482 United States;X-APPLE-RADIUS=500;X-TITLE=79 Denton Road:geo:-71.2944039,42.2931594
END:VEVENT
END:VCALENDAR